BEGIN:VCALENDAR
VERSION:2.0
PRODID:-//Haus der Begegnung - Königstein - ECPv6.15.20//NONSGML v1.0//EN
CALSCALE:GREGORIAN
METHOD:PUBLISH
X-ORIGINAL-URL:https://hdb-koenigstein.de
X-WR-CALDESC:Veranstaltungen für Haus der Begegnung - Königstein
REFRESH-INTERVAL;VALUE=DURATION:PT1H
X-Robots-Tag:noindex
X-PUBLISHED-TTL:PT1H
BEGIN:VTIMEZONE
TZID:Europe/Berlin
BEGIN:DAYLIGHT
TZOFFSETFROM:+0100
TZOFFSETTO:+0200
TZNAME:CEST
DTSTART:20250330T010000
END:DAYLIGHT
BEGIN:STANDARD
TZOFFSETFROM:+0200
TZOFFSETTO:+0100
TZNAME:CET
DTSTART:20251026T010000
END:STANDARD
BEGIN:DAYLIGHT
TZOFFSETFROM:+0100
TZOFFSETTO:+0200
TZNAME:CEST
DTSTART:20260329T010000
END:DAYLIGHT
BEGIN:STANDARD
TZOFFSETFROM:+0200
TZOFFSETTO:+0100
TZNAME:CET
DTSTART:20261025T010000
END:STANDARD
BEGIN:DAYLIGHT
TZOFFSETFROM:+0100
TZOFFSETTO:+0200
TZNAME:CEST
DTSTART:20270328T010000
END:DAYLIGHT
BEGIN:STANDARD
TZOFFSETFROM:+0200
TZOFFSETTO:+0100
TZNAME:CET
DTSTART:20271031T010000
END:STANDARD
END:VTIMEZONE
BEGIN:VEVENT
DTSTART;TZID=Europe/Berlin:20261119T190000
DTEND;TZID=Europe/Berlin:20261119T190000
DTSTAMP:20260421T114344
CREATED:20260121T223523Z
LAST-MODIFIED:20260416T204335Z
UID:15683-1795114800-1795114800@hdb-koenigstein.de
SUMMARY:Konzert des Sinfonieorchesters Rhein-Main
DESCRIPTION:Sinfonie-Konzerte „Brahms IV“\nDas Sinfonieorchester Rhein-Main lädt nach Königstein in das Haus der Begegnung ein.\nMehr Informationen folgen in Kürze. \nPROGRAMM:\nWagner: Rienzi-Ouvertüre\nMozart: Haffner-Sinfonie Nr. 35\nBrahms: Sinfonie Nr. 4 e-Moll op. 98 \n \nFoto: Stefan Effner für das Sinfonieorchester Rhein-Main e.V.
URL:https://hdb-koenigstein.de/event/konzert-des-sinfonieorchesters-rhein-main-3/
LOCATION:Haus der Begegnung (Großer Saal)\, Bischof-Kaller-Straße 3\, Königstein im Taunus\, Hessen\, 61462\, Germany
CATEGORIES:Allgemein,HdB,Konzert,Musik,Unterhaltung
ATTACH;FMTTYPE=image/png:https://hdb-koenigstein.de/wp-content/uploads/2026/01/Konzert-des-Sinfonieorchesters-Rhein-Main-drSEZU.png
END:VEVENT
END:VCALENDAR